BEGIN:VCALENDAR
VERSION:2.0
PRODID:-//MoreDirt v1.0//EN
BEGIN:VEVENT
DTSTAMP:20150730T130000Z
ORGANIZER;CN=MSG & Push Sport Ltd:MAILTO:
STATUS:CONFIRMED
UID:MORESPORTSNETWORK1714
DTSTART:20161001T080000Z
DTEND:20161002T120000Z
SUMMARY:20:12 - Hadleigh Park
DESCRIPTION:20:12 - Hadleigh Park - more details: https://www.moredirt.com/event/1714
X-ALT-DESC;FMTTYPE=text/html:20:12 - Hadleigh Park - more details: https://www.moredirt.com/event/1714
LOCATION:
END:VEVENT
END:VCALENDAR