BEGIN:VCALENDAR
VERSION:2.0
PRODID:-//MoreDirt v1.0//EN
BEGIN:VEVENT
DTSTAMP:20150730T130000Z
ORGANIZER;CN=Giant Store Lincoln:MAILTO:
STATUS:CONFIRMED
UID:MORESPORTSNETWORK1712
DTSTART:20160507T080000Z
DTEND:20160507T120000Z
SUMMARY:Giant Store Lincoln - Grand Opening
DESCRIPTION:Giant Store Lincoln - Grand Opening - more details: https://www.moredirt.com/event/1712
X-ALT-DESC;FMTTYPE=text/html:Giant Store Lincoln - Grand Opening - more details: https://www.moredirt.com/event/1712
LOCATION:
END:VEVENT
END:VCALENDAR