BEGIN:VCALENDAR
VERSION:2.0
PRODID:-//MoreDirt v1.0//EN
BEGIN:VEVENT
DTSTAMP:20150730T130000Z
ORGANIZER;CN=MTB Girls Ride:MAILTO:
STATUS:CONFIRMED
UID:MORESPORTSNETWORK1710
DTSTART:20160521T080000Z
DTEND:20160521T120000Z
SUMMARY:Fort William MTB Girls Group Ride
DESCRIPTION:Fort William MTB Girls Group Ride - more details: https://www.moredirt.com/event/1710
X-ALT-DESC;FMTTYPE=text/html:Fort William MTB Girls Group Ride - more details: https://www.moredirt.com/event/1710
LOCATION:
END:VEVENT
END:VCALENDAR