BEGIN:VCALENDAR
VERSION:2.0
PRODID:-//MoreDirt v1.0//EN
BEGIN:VEVENT
DTSTAMP:20150730T130000Z
ORGANIZER;CN=Lake District Lasses:MAILTO:
STATUS:CONFIRMED
UID:MORESPORTSNETWORK1707
DTSTART:20160521T080000Z
DTEND:20160522T120000Z
SUMMARY:Lake District Lasses
DESCRIPTION:Lake District Lasses - more details: https://www.moredirt.com/event/1707
X-ALT-DESC;FMTTYPE=text/html:Lake District Lasses - more details: https://www.moredirt.com/event/1707
LOCATION:
END:VEVENT
END:VCALENDAR