BEGIN:VCALENDAR
VERSION:2.0
PRODID:-//MoreDirt v1.0//EN
BEGIN:VEVENT
DTSTAMP:20150730T130000Z
ORGANIZER;CN=The Dorset Rough Riders:MAILTO:
STATUS:CONFIRMED
UID:MORESPORTSNETWORK1704
DTSTART:20160612T080000Z
DTEND:20160612T120000Z
SUMMARY:The Purbeck 4000
DESCRIPTION:The Purbeck 4000 - more details: https://www.moredirt.com/event/1704
X-ALT-DESC;FMTTYPE=text/html:The Purbeck 4000 - more details: https://www.moredirt.com/event/1704
LOCATION:
END:VEVENT
END:VCALENDAR