BEGIN:VCALENDAR
VERSION:2.0
PRODID:-//MoreDirt v1.0//EN
BEGIN:VEVENT
DTSTAMP:20150730T130000Z
ORGANIZER;CN=Hope Tech:MAILTO:
STATUS:CONFIRMED
UID:MORESPORTSNETWORK1697
DTSTART:20160503T080000Z
DTEND:20160503T120000Z
SUMMARY:Hope Tech Womens Ride - Wharncliffe
DESCRIPTION:Hope Tech Womens Ride - Wharncliffe - more details: https://www.moredirt.com/event/1697
X-ALT-DESC;FMTTYPE=text/html:Hope Tech Womens Ride - Wharncliffe - more details: https://www.moredirt.com/event/1697
LOCATION:
END:VEVENT
END:VCALENDAR