BEGIN:VCALENDAR
VERSION:2.0
PRODID:-//MoreDirt v1.0//EN
BEGIN:VEVENT
DTSTAMP:20150730T130000Z
ORGANIZER;CN=DMBinS:MAILTO:
STATUS:CONFIRMED
UID:MORESPORTSNETWORK1695
DTSTART:20160424T080000Z
DTEND:20160424T120000Z
SUMMARY:Take Care of (Tarland) Trails Weekend
DESCRIPTION:Take Care of (Tarland) Trails Weekend - more details: https://www.moredirt.com/event/1695
X-ALT-DESC;FMTTYPE=text/html:Take Care of (Tarland) Trails Weekend - more details: https://www.moredirt.com/event/1695
LOCATION:
END:VEVENT
END:VCALENDAR