BEGIN:VCALENDAR
VERSION:2.0
PRODID:-//MoreDirt v1.0//EN
BEGIN:VEVENT
DTSTAMP:20150730T130000Z
ORGANIZER;CN=Hope Tech:MAILTO:
STATUS:CONFIRMED
UID:MORESPORTSNETWORK1694
DTSTART:20160419T080000Z
DTEND:20160419T120000Z
SUMMARY:Hope Tech Womens Ride -  Gisburn Forest
DESCRIPTION:Hope Tech Womens Ride -  Gisburn Forest - more details: https://www.moredirt.com/event/1694
X-ALT-DESC;FMTTYPE=text/html:Hope Tech Womens Ride -  Gisburn Forest - more details: https://www.moredirt.com/event/1694
LOCATION:
END:VEVENT
END:VCALENDAR