BEGIN:VCALENDAR
VERSION:2.0
PRODID:-//MoreDirt v1.0//EN
BEGIN:VEVENT
DTSTAMP:20150730T130000Z
ORGANIZER;CN=Team Ballyhoura:MAILTO:
STATUS:CONFIRMED
UID:MORESPORTSNETWORK1689
DTSTART:20160424T080000Z
DTEND:20160424T120000Z
SUMMARY:Cube Munster Enduro Series 2016 - RD 3
DESCRIPTION:Cube Munster Enduro Series 2016 - RD 3 - more details: https://www.moredirt.com/event/1689
X-ALT-DESC;FMTTYPE=text/html:Cube Munster Enduro Series 2016 - RD 3 - more details: https://www.moredirt.com/event/1689
LOCATION:
END:VEVENT
END:VCALENDAR