BEGIN:VCALENDAR
VERSION:2.0
PRODID:-//MoreDirt v1.0//EN
BEGIN:VEVENT
DTSTAMP:20150730T130000Z
ORGANIZER;CN=Mikes Bikes Aviemore:MAILTO:
STATUS:CONFIRMED
UID:MORESPORTSNETWORK1688
DTSTART:20160424T080000Z
DTEND:20160424T120000Z
SUMMARY:Ladies MTB Ride out with Hannah Barnes
DESCRIPTION:Ladies MTB Ride out with Hannah Barnes - more details: https://www.moredirt.com/event/1688
X-ALT-DESC;FMTTYPE=text/html:Ladies MTB Ride out with Hannah Barnes - more details: https://www.moredirt.com/event/1688
LOCATION:
END:VEVENT
END:VCALENDAR