BEGIN:VCALENDAR
VERSION:2.0
PRODID:-//MoreDirt v1.0//EN
BEGIN:VEVENT
DTSTAMP:20150730T130000Z
ORGANIZER;CN=Thetford MTB Racing:MAILTO:
STATUS:CONFIRMED
UID:MORESPORTSNETWORK167
DTSTART:20111106T080000+0000
DTEND:20111106T120000+0000
SUMMARY:Whyte Winter Series 2011-12 RD1
DESCRIPTION:Whyte Winter Series 2011-12 RD1 - more details: https://www.moredirt.com/event/167
X-ALT-DESC;FMTTYPE=text/html:Whyte Winter Series 2011-12 RD1 - more details: https://www.moredirt.com/event/167
LOCATION:
END:VEVENT
END:VCALENDAR