BEGIN:VCALENDAR
VERSION:2.0
PRODID:-//MoreDirt v1.0//EN
BEGIN:VEVENT
DTSTAMP:20150730T130000Z
ORGANIZER;CN=Rutland Cycling:MAILTO:
STATUS:CONFIRMED
UID:MORESPORTSNETWORK1677
DTSTART:20160416T080000Z
DTEND:20160416T120000Z
SUMMARY:Rutland Cycling E-Bike Demo Day
DESCRIPTION:Rutland Cycling E-Bike Demo Day - more details: https://www.moredirt.com/event/1677
X-ALT-DESC;FMTTYPE=text/html:Rutland Cycling E-Bike Demo Day - more details: https://www.moredirt.com/event/1677
LOCATION:
END:VEVENT
END:VCALENDAR