BEGIN:VCALENDAR
VERSION:2.0
PRODID:-//MoreDirt v1.0//EN
BEGIN:VEVENT
DTSTAMP:20150730T130000Z
ORGANIZER;CN=BikeFest:MAILTO:
STATUS:CONFIRMED
UID:MORESPORTSNETWORK1671
DTSTART:20160916T080000Z
DTEND:20160918T120000Z
SUMMARY:THE EX 2016
DESCRIPTION:THE EX 2016 - more details: https://www.moredirt.com/event/1671
X-ALT-DESC;FMTTYPE=text/html:THE EX 2016 - more details: https://www.moredirt.com/event/1671
LOCATION:
END:VEVENT
END:VCALENDAR