BEGIN:VCALENDAR
VERSION:2.0
PRODID:-//MoreDirt v1.0//EN
BEGIN:VEVENT
DTSTAMP:20150730T130000Z
ORGANIZER;CN=Spike Events:MAILTO:
STATUS:CONFIRMED
UID:MORESPORTSNETWORK1670
DTSTART:20160904T080000Z
DTEND:20160904T120000Z
SUMMARY:Rockets & Rascals Hell of the South 2016
DESCRIPTION:Rockets & Rascals Hell of the South 2016 - more details: https://www.moredirt.com/event/1670
X-ALT-DESC;FMTTYPE=text/html:Rockets & Rascals Hell of the South 2016 - more details: https://www.moredirt.com/event/1670
LOCATION:
END:VEVENT
END:VCALENDAR