BEGIN:VCALENDAR
VERSION:2.0
PRODID:-//MoreDirt v1.0//EN
BEGIN:VEVENT
DTSTAMP:20150730T130000Z
ORGANIZER;CN=Alpine Bikes:MAILTO:
STATUS:CONFIRMED
UID:MORESPORTSNETWORK1669
DTSTART:20160423T080000Z
DTEND:20160423T120000Z
SUMMARY:Trek Demo Day - Alpine Bikes
DESCRIPTION:Trek Demo Day - Alpine Bikes - more details: https://www.moredirt.com/event/1669
X-ALT-DESC;FMTTYPE=text/html:Trek Demo Day - Alpine Bikes - more details: https://www.moredirt.com/event/1669
LOCATION:
END:VEVENT
END:VCALENDAR