BEGIN:VCALENDAR
VERSION:2.0
PRODID:-//MoreDirt v1.0//EN
BEGIN:VEVENT
DTSTAMP:20150730T130000Z
ORGANIZER;CN=Cyclewise:MAILTO:
STATUS:CONFIRMED
UID:MORESPORTSNETWORK1668
DTSTART:20160521T080000Z
DTEND:20160521T120000Z
SUMMARY:Cyclewise Whinlatter MTB Demo Weekend
DESCRIPTION:Cyclewise Whinlatter MTB Demo Weekend - more details: https://www.moredirt.com/event/1668
X-ALT-DESC;FMTTYPE=text/html:Cyclewise Whinlatter MTB Demo Weekend - more details: https://www.moredirt.com/event/1668
LOCATION:
END:VEVENT
END:VCALENDAR