BEGIN:VCALENDAR
VERSION:2.0
PRODID:-//MoreDirt v1.0//EN
BEGIN:VEVENT
DTSTAMP:20150730T130000Z
ORGANIZER;CN=Downhill Freeriders:MAILTO:
STATUS:CONFIRMED
UID:MORESPORTSNETWORK1663
DTSTART:20160410T080000Z
DTEND:20160410T120000Z
SUMMARY:Downhill Freeriders Championship 2016 - Round 2
DESCRIPTION:Downhill Freeriders Championship 2016 - Round 2 - more details: https://www.moredirt.com/event/1663
X-ALT-DESC;FMTTYPE=text/html:Downhill Freeriders Championship 2016 - Round 2 - more details: https://www.moredirt.com/event/1663
LOCATION:
END:VEVENT
END:VCALENDAR