BEGIN:VCALENDAR
VERSION:2.0
PRODID:-//MoreDirt v1.0//EN
BEGIN:VEVENT
DTSTAMP:20150730T130000Z
ORGANIZER;CN=Air Maiden:MAILTO:
STATUS:CONFIRMED
UID:MORESPORTSNETWORK1661
DTSTART:20160514T080000Z
DTEND:20160515T120000Z
SUMMARY:Air Maiden 2016
DESCRIPTION:Air Maiden 2016 - more details: https://www.moredirt.com/event/1661
X-ALT-DESC;FMTTYPE=text/html:Air Maiden 2016 - more details: https://www.moredirt.com/event/1661
LOCATION:
END:VEVENT
END:VCALENDAR