BEGIN:VCALENDAR
VERSION:2.0
PRODID:-//MoreDirt v1.0//EN
BEGIN:VEVENT
DTSTAMP:20150730T130000Z
ORGANIZER;CN=Air Maiden:MAILTO:
STATUS:CONFIRMED
UID:MORESPORTSNETWORK1660
DTSTART:20160723T080000Z
DTEND:20160723T120000Z
SUMMARY:Maidenduro 2016
DESCRIPTION:Maidenduro 2016 - more details: https://www.moredirt.com/event/1660
X-ALT-DESC;FMTTYPE=text/html:Maidenduro 2016 - more details: https://www.moredirt.com/event/1660
LOCATION:
END:VEVENT
END:VCALENDAR