BEGIN:VCALENDAR
VERSION:2.0
PRODID:-//MoreDirt v1.0//EN
BEGIN:VEVENT
DTSTAMP:20150730T130000Z
ORGANIZER;CN=Steel Valley Project:MAILTO:
STATUS:CONFIRMED
UID:MORESPORTSNETWORK1656
DTSTART:20160716T080000Z
DTEND:20160716T120000Z
SUMMARY:Steel Valley Ride
DESCRIPTION:Steel Valley Ride - more details: https://www.moredirt.com/event/1656
X-ALT-DESC;FMTTYPE=text/html:Steel Valley Ride - more details: https://www.moredirt.com/event/1656
LOCATION:
END:VEVENT
END:VCALENDAR