BEGIN:VCALENDAR
VERSION:2.0
PRODID:-//MoreDirt v1.0//EN
BEGIN:VEVENT
DTSTAMP:20150730T130000Z
ORGANIZER;CN=SIP Events:MAILTO:
STATUS:CONFIRMED
UID:MORESPORTSNETWORK164
DTSTART:20110903T080000Z
DTEND:20110903T120000Z
SUMMARY:Montane Kielder 100 - 2011
DESCRIPTION:Montane Kielder 100 - 2011 - more details: https://www.moredirt.com/event/164
X-ALT-DESC;FMTTYPE=text/html:Montane Kielder 100 - 2011 - more details: https://www.moredirt.com/event/164
LOCATION:
END:VEVENT
END:VCALENDAR