BEGIN:VCALENDAR
VERSION:2.0
PRODID:-//MoreDirt v1.0//EN
BEGIN:VEVENT
DTSTAMP:20150730T130000Z
ORGANIZER;CN=Croyde Ocean Events:MAILTO:
STATUS:CONFIRMED
UID:MORESPORTSNETWORK1646
DTSTART:20160619T080000Z
DTEND:20160619T120000Z
SUMMARY:Beach Breaker 2016
DESCRIPTION:Beach Breaker 2016 - more details: https://www.moredirt.com/event/1646
X-ALT-DESC;FMTTYPE=text/html:Beach Breaker 2016 - more details: https://www.moredirt.com/event/1646
LOCATION:
END:VEVENT
END:VCALENDAR