BEGIN:VCALENDAR
VERSION:2.0
PRODID:-//MoreDirt v1.0//EN
BEGIN:VEVENT
DTSTAMP:20150730T130000Z
ORGANIZER;CN=Robin Nicoll:MAILTO:
STATUS:CONFIRMED
UID:MORESPORTSNETWORK1644
DTSTART:20160502T080000Z
DTEND:20160502T120000Z
SUMMARY:Eat Dirt on Exmoor
DESCRIPTION:Eat Dirt on Exmoor - more details: https://www.moredirt.com/event/1644
X-ALT-DESC;FMTTYPE=text/html:Eat Dirt on Exmoor - more details: https://www.moredirt.com/event/1644
LOCATION:
END:VEVENT
END:VCALENDAR