BEGIN:VCALENDAR
VERSION:2.0
PRODID:-//MoreDirt v1.0//EN
BEGIN:VEVENT
DTSTAMP:20150730T130000Z
ORGANIZER;CN=Noahs Bikes:MAILTO:
STATUS:CONFIRMED
UID:MORESPORTSNETWORK1643
DTSTART:20160402T080000Z
DTEND:20160402T120000Z
SUMMARY:Noahs Spring Demo Day 2016
DESCRIPTION:Noahs Spring Demo Day 2016 - more details: https://www.moredirt.com/event/1643
X-ALT-DESC;FMTTYPE=text/html:Noahs Spring Demo Day 2016 - more details: https://www.moredirt.com/event/1643
LOCATION:
END:VEVENT
END:VCALENDAR