BEGIN:VCALENDAR
VERSION:2.0
PRODID:-//MoreDirt v1.0//EN
BEGIN:VEVENT
DTSTAMP:20150730T130000Z
ORGANIZER;CN=B1KE:MAILTO:
STATUS:CONFIRMED
UID:MORESPORTSNETWORK1640
DTSTART:20160305T080000+0000
DTEND:20160306T120000+0000
SUMMARY:Tidworth Freeride Season Opener 2016
DESCRIPTION:Tidworth Freeride Season Opener 2016 - more details: https://www.moredirt.com/event/1640
X-ALT-DESC;FMTTYPE=text/html:Tidworth Freeride Season Opener 2016 - more details: https://www.moredirt.com/event/1640
LOCATION:
END:VEVENT
END:VCALENDAR