BEGIN:VCALENDAR
VERSION:2.0
PRODID:-//MoreDirt v1.0//EN
BEGIN:VEVENT
DTSTAMP:20150730T130000Z
ORGANIZER;CN=CTC Devon & Bigpeaks.com:MAILTO:
STATUS:CONFIRMED
UID:MORESPORTSNETWORK1638
DTSTART:20160417T080000Z
DTEND:20160417T120000Z
SUMMARY:Devon Dirt 2016
DESCRIPTION:Devon Dirt 2016 - more details: https://www.moredirt.com/event/1638
X-ALT-DESC;FMTTYPE=text/html:Devon Dirt 2016 - more details: https://www.moredirt.com/event/1638
LOCATION:
END:VEVENT
END:VCALENDAR