BEGIN:VCALENDAR
VERSION:2.0
PRODID:-//MoreDirt v1.0//EN
BEGIN:VEVENT
DTSTAMP:20150730T130000Z
ORGANIZER;CN=Kings Lynn MTB:MAILTO:
STATUS:CONFIRMED
UID:MORESPORTSNETWORK1635
DTSTART:20160911T080000Z
DTEND:20160911T120000Z
SUMMARY:Revel Outdoors Shouldham Enduro
DESCRIPTION:Revel Outdoors Shouldham Enduro - more details: https://www.moredirt.com/event/1635
X-ALT-DESC;FMTTYPE=text/html:Revel Outdoors Shouldham Enduro - more details: https://www.moredirt.com/event/1635
LOCATION:
END:VEVENT
END:VCALENDAR