BEGIN:VCALENDAR
VERSION:2.0
PRODID:-//MoreDirt v1.0//EN
BEGIN:VEVENT
DTSTAMP:20150730T130000Z
ORGANIZER;CN=Kings Lynn MTB:MAILTO:
STATUS:CONFIRMED
UID:MORESPORTSNETWORK1634
DTSTART:20170212T080000+0000
DTEND:20170212T120000+0000
SUMMARY:Revel Outdoors Winter Series Round 4
DESCRIPTION:Revel Outdoors Winter Series Round 4 - more details: https://www.moredirt.com/event/1634
X-ALT-DESC;FMTTYPE=text/html:Revel Outdoors Winter Series Round 4 - more details: https://www.moredirt.com/event/1634
LOCATION:
END:VEVENT
END:VCALENDAR