BEGIN:VCALENDAR
VERSION:2.0
PRODID:-//MoreDirt v1.0//EN
BEGIN:VEVENT
DTSTAMP:20150730T130000Z
ORGANIZER;CN=Adrian Bradley:MAILTO:
STATUS:CONFIRMED
UID:MORESPORTSNETWORK1630
DTSTART:20160702T080000Z
DTEND:20160702T120000Z
SUMMARY:Antur Stiniog Dh Ffest 2016
DESCRIPTION:Antur Stiniog Dh Ffest 2016 - more details: https://www.moredirt.com/event/1630
X-ALT-DESC;FMTTYPE=text/html:Antur Stiniog Dh Ffest 2016 - more details: https://www.moredirt.com/event/1630
LOCATION:
END:VEVENT
END:VCALENDAR