BEGIN:VCALENDAR
VERSION:2.0
PRODID:-//MoreDirt v1.0//EN
BEGIN:VEVENT
DTSTAMP:20150730T130000Z
ORGANIZER;CN=Adrian Bradley:MAILTO:
STATUS:CONFIRMED
UID:MORESPORTSNETWORK1629
DTSTART:20160806T080000Z
DTEND:20160807T120000Z
SUMMARY:Welsh DH Champs 2016
DESCRIPTION:Welsh DH Champs 2016 - more details: https://www.moredirt.com/event/1629
X-ALT-DESC;FMTTYPE=text/html:Welsh DH Champs 2016 - more details: https://www.moredirt.com/event/1629
LOCATION:
END:VEVENT
END:VCALENDAR