BEGIN:VCALENDAR
VERSION:2.0
PRODID:-//MoreDirt v1.0//EN
BEGIN:VEVENT
DTSTAMP:20150730T130000Z
ORGANIZER;CN=Fat Tyre Revolution:MAILTO:
STATUS:CONFIRMED
UID:MORESPORTSNETWORK1627
DTSTART:20160916T080000Z
DTEND:20160918T120000Z
SUMMARY:Fat Tyre Revolution
DESCRIPTION:Fat Tyre Revolution - more details: https://www.moredirt.com/event/1627
X-ALT-DESC;FMTTYPE=text/html:Fat Tyre Revolution - more details: https://www.moredirt.com/event/1627
LOCATION:
END:VEVENT
END:VCALENDAR