BEGIN:VCALENDAR
VERSION:2.0
PRODID:-//MoreDirt v1.0//EN
BEGIN:VEVENT
DTSTAMP:20150730T130000Z
ORGANIZER;CN=Just Events Limited:MAILTO:
STATUS:CONFIRMED
UID:MORESPORTSNETWORK1625
DTSTART:20160402T080000Z
DTEND:20160402T120000Z
SUMMARY:Haldon Heroic 2016
DESCRIPTION:Haldon Heroic 2016 - more details: https://www.moredirt.com/event/1625
X-ALT-DESC;FMTTYPE=text/html:Haldon Heroic 2016 - more details: https://www.moredirt.com/event/1625
LOCATION:
END:VEVENT
END:VCALENDAR