BEGIN:VCALENDAR
VERSION:2.0
PRODID:-//MoreDirt v1.0//EN
BEGIN:VEVENT
DTSTAMP:20150730T130000Z
ORGANIZER;CN=Yeti Cycles UK &Silverfish UK:MAILTO:
STATUS:CONFIRMED
UID:MORESPORTSNETWORK1616
DTSTART:20160618T080000Z
DTEND:20160618T120000Z
SUMMARY:UK Yeti Cycles Tribe Gathering
DESCRIPTION:UK Yeti Cycles Tribe Gathering - more details: https://www.moredirt.com/event/1616
X-ALT-DESC;FMTTYPE=text/html:UK Yeti Cycles Tribe Gathering - more details: https://www.moredirt.com/event/1616
LOCATION:
END:VEVENT
END:VCALENDAR