BEGIN:VCALENDAR
VERSION:2.0
PRODID:-//MoreDirt v1.0//EN
BEGIN:VEVENT
DTSTAMP:20150730T130000Z
ORGANIZER;CN=steve@southernmbc.com:MAILTO:
STATUS:CONFIRMED
UID:MORESPORTSNETWORK159
DTSTART:20110904T080000Z
DTEND:20110904T120000Z
SUMMARY:Southern XC Series RD5
DESCRIPTION:Southern XC Series RD5 - more details: https://www.moredirt.com/event/159
X-ALT-DESC;FMTTYPE=text/html:Southern XC Series RD5 - more details: https://www.moredirt.com/event/159
LOCATION:
END:VEVENT
END:VCALENDAR