BEGIN:VCALENDAR
VERSION:2.0
PRODID:-//MoreDirt v1.0//EN
BEGIN:VEVENT
DTSTAMP:20150730T130000Z
ORGANIZER;CN=PETE WILKIN / CHIP RAFFERTY:MAILTO:
STATUS:CONFIRMED
UID:MORESPORTSNETWORK1583
DTSTART:20160521T080000Z
DTEND:20160522T120000Z
SUMMARY:Boltby Bash Enduro
DESCRIPTION:Boltby Bash Enduro - more details: https://www.moredirt.com/event/1583
X-ALT-DESC;FMTTYPE=text/html:Boltby Bash Enduro - more details: https://www.moredirt.com/event/1583
LOCATION:
END:VEVENT
END:VCALENDAR