BEGIN:VCALENDAR
VERSION:2.0
PRODID:-//MoreDirt v1.0//EN
BEGIN:VEVENT
DTSTAMP:20150730T130000Z
ORGANIZER;CN=Chris Roberts:MAILTO:
STATUS:CONFIRMED
UID:MORESPORTSNETWORK14
DTSTART:20101205T080000+0000
DTEND:20101205T120000+0000
SUMMARY:661 Mini Downhill R1
DESCRIPTION:661 Mini Downhill R1 - more details: https://www.moredirt.com/event/14
X-ALT-DESC;FMTTYPE=text/html:661 Mini Downhill R1 - more details: https://www.moredirt.com/event/14
LOCATION:
END:VEVENT
END:VCALENDAR