BEGIN:VCALENDAR
VERSION:2.0
PRODID:-//MoreDirt v1.0//EN
BEGIN:VEVENT
DTSTAMP:20150730T130000Z
ORGANIZER;CN=One Planet Adventure:MAILTO:
STATUS:CONFIRMED
UID:MORESPORTSNETWORK1495
DTSTART:20160117T080000+0000
DTEND:20160117T120000+0000
SUMMARY:Nukeproof Demo Day
DESCRIPTION:Nukeproof Demo Day - more details: https://www.moredirt.com/event/1495
X-ALT-DESC;FMTTYPE=text/html:Nukeproof Demo Day - more details: https://www.moredirt.com/event/1495
LOCATION:
END:VEVENT
END:VCALENDAR