BEGIN:VCALENDAR
VERSION:2.0
PRODID:-//MoreDirt v1.0//EN
BEGIN:VEVENT
DTSTAMP:20150730T130000Z
ORGANIZER;CN=British Cycling:MAILTO:
STATUS:CONFIRMED
UID:MORESPORTSNETWORK1432
DTSTART:20160611T080000Z
DTEND:20160612T120000Z
SUMMARY:British Cycling MTB Cross-country Series - Round 4
DESCRIPTION:British Cycling MTB Cross-country Series - Round 4 - more details: https://www.moredirt.com/event/1432
X-ALT-DESC;FMTTYPE=text/html:British Cycling MTB Cross-country Series - Round 4 - more details: https://www.moredirt.com/event/1432
LOCATION:
END:VEVENT
END:VCALENDAR