BEGIN:VCALENDAR
VERSION:2.0
PRODID:-//MoreDirt v1.0//EN
BEGIN:VEVENT
DTSTAMP:20150730T130000Z
ORGANIZER;CN=British Cycling:MAILTO:
STATUS:CONFIRMED
UID:MORESPORTSNETWORK1429
DTSTART:20160423T080000Z
DTEND:20160424T120000Z
SUMMARY:British Cycling MTB Cross-country Series - Round 2
DESCRIPTION:British Cycling MTB Cross-country Series - Round 2 - more details: https://www.moredirt.com/event/1429
X-ALT-DESC;FMTTYPE=text/html:British Cycling MTB Cross-country Series - Round 2 - more details: https://www.moredirt.com/event/1429
LOCATION:
END:VEVENT
END:VCALENDAR