BEGIN:VCALENDAR
VERSION:2.0
PRODID:-//MoreDirt v1.0//EN
BEGIN:VEVENT
DTSTAMP:20150730T130000Z
ORGANIZER;CN=British Cycling:MAILTO:
STATUS:CONFIRMED
UID:MORESPORTSNETWORK1428
DTSTART:20160402T080000Z
DTEND:20160403T120000Z
SUMMARY:British Cycling MTB Cross-country Series - Round 1
DESCRIPTION:British Cycling MTB Cross-country Series - Round 1 - more details: https://www.moredirt.com/event/1428
X-ALT-DESC;FMTTYPE=text/html:British Cycling MTB Cross-country Series - Round 1 - more details: https://www.moredirt.com/event/1428
LOCATION:
END:VEVENT
END:VCALENDAR