BEGIN:VCALENDAR
VERSION:2.0
PRODID:-//MoreDirt v1.0//EN
BEGIN:VEVENT
DTSTAMP:20150730T130000Z
ORGANIZER;CN=Gorrick Events:MAILTO:
STATUS:CONFIRMED
UID:MORESPORTSNETWORK1422
DTSTART:20160117T080000+0000
DTEND:20160117T120000+0000
SUMMARY:Skedaddle Spring Series - Round 1
DESCRIPTION:Skedaddle Spring Series - Round 1 - more details: https://www.moredirt.com/event/1422
X-ALT-DESC;FMTTYPE=text/html:Skedaddle Spring Series - Round 1 - more details: https://www.moredirt.com/event/1422
LOCATION:
END:VEVENT
END:VCALENDAR