BEGIN:VCALENDAR
VERSION:2.0
PRODID:-//MoreDirt v1.0//EN
BEGIN:VEVENT
DTSTAMP:20150730T130000Z
ORGANIZER;CN=Scottish Enduro Series:MAILTO:
STATUS:CONFIRMED
UID:MORESPORTSNETWORK1417
DTSTART:20160522T080000Z
DTEND:20160522T120000Z
SUMMARY:SouthernXC Series 2016 - Round 4
DESCRIPTION:SouthernXC Series 2016 - Round 4 - more details: https://www.moredirt.com/event/1417
X-ALT-DESC;FMTTYPE=text/html:SouthernXC Series 2016 - Round 4 - more details: https://www.moredirt.com/event/1417
LOCATION:
END:VEVENT
END:VCALENDAR