BEGIN:VCALENDAR
VERSION:2.0
PRODID:-//MoreDirt v1.0//EN
BEGIN:VEVENT
DTSTAMP:20150730T130000Z
ORGANIZER;CN=SouthernXC:MAILTO:
STATUS:CONFIRMED
UID:MORESPORTSNETWORK1416
DTSTART:20160508T080000Z
DTEND:20160508T120000Z
SUMMARY:SouthernXC Series 2016 - Round 3
DESCRIPTION:SouthernXC Series 2016 - Round 3 - more details: https://www.moredirt.com/event/1416
X-ALT-DESC;FMTTYPE=text/html:SouthernXC Series 2016 - Round 3 - more details: https://www.moredirt.com/event/1416
LOCATION:
END:VEVENT
END:VCALENDAR