BEGIN:VCALENDAR
VERSION:2.0
PRODID:-//MoreDirt v1.0//EN
BEGIN:VEVENT
DTSTAMP:20150730T130000Z
ORGANIZER;CN=SouthernXC:MAILTO:
STATUS:CONFIRMED
UID:MORESPORTSNETWORK1415
DTSTART:20160417T080000Z
DTEND:20160417T120000Z
SUMMARY:SouthernXC Series 2016 - Round 2
DESCRIPTION:SouthernXC Series 2016 - Round 2 - more details: https://www.moredirt.com/event/1415
X-ALT-DESC;FMTTYPE=text/html:SouthernXC Series 2016 - Round 2 - more details: https://www.moredirt.com/event/1415
LOCATION:
END:VEVENT
END:VCALENDAR