BEGIN:VCALENDAR
VERSION:2.0
PRODID:-//MoreDirt v1.0//EN
BEGIN:VEVENT
DTSTAMP:20150730T130000Z
ORGANIZER;CN=MoreMTB:MAILTO:
STATUS:CONFIRMED
UID:MORESPORTSNETWORK1412
DTSTART:20160206T080000+0000
DTEND:20160206T120000+0000
SUMMARY:MoreMTBs Day and Night Enduro
DESCRIPTION:MoreMTBs Day and Night Enduro - more details: https://www.moredirt.com/event/1412
X-ALT-DESC;FMTTYPE=text/html:MoreMTBs Day and Night Enduro - more details: https://www.moredirt.com/event/1412
LOCATION:
END:VEVENT
END:VCALENDAR