BEGIN:VCALENDAR
VERSION:2.0
PRODID:-//MoreDirt v1.0//EN
BEGIN:VEVENT
DTSTAMP:20150730T130000Z
ORGANIZER;CN=Nesta Hill:MAILTO:
STATUS:CONFIRMED
UID:MORESPORTSNETWORK1410
DTSTART:20160611T080000Z
DTEND:20160611T120000Z
SUMMARY:LongMynd Batch Burner 2016
DESCRIPTION:LongMynd Batch Burner 2016 - more details: https://www.moredirt.com/event/1410
X-ALT-DESC;FMTTYPE=text/html:LongMynd Batch Burner 2016 - more details: https://www.moredirt.com/event/1410
LOCATION:
END:VEVENT
END:VCALENDAR