BEGIN:VCALENDAR
VERSION:2.0
PRODID:-//MoreDirt v1.0//EN
BEGIN:VEVENT
DTSTAMP:20150730T130000Z
ORGANIZER;CN=Biking Blitz:MAILTO:
STATUS:CONFIRMED
UID:MORESPORTSNETWORK1392
DTSTART:20160221T080000+0000
DTEND:20160221T120000+0000
SUMMARY:Biking Blitz - Round 2 - Limerick
DESCRIPTION:Biking Blitz - Round 2 - Limerick - more details: https://www.moredirt.com/event/1392
X-ALT-DESC;FMTTYPE=text/html:Biking Blitz - Round 2 - Limerick - more details: https://www.moredirt.com/event/1392
LOCATION:
END:VEVENT
END:VCALENDAR