BEGIN:VCALENDAR
VERSION:2.0
PRODID:-//MoreDirt v1.0//EN
BEGIN:VEVENT
DTSTAMP:20150730T130000Z
ORGANIZER;CN=Biking Blitz:MAILTO:
STATUS:CONFIRMED
UID:MORESPORTSNETWORK1391
DTSTART:20160207T080000+0000
DTEND:20160207T120000+0000
SUMMARY:Biking Blitz - Round 1 - Wicklow
DESCRIPTION:Biking Blitz - Round 1 - Wicklow - more details: https://www.moredirt.com/event/1391
X-ALT-DESC;FMTTYPE=text/html:Biking Blitz - Round 1 - Wicklow - more details: https://www.moredirt.com/event/1391
LOCATION:
END:VEVENT
END:VCALENDAR