BEGIN:VCALENDAR
VERSION:2.0
PRODID:-//MoreDirt v1.0//EN
BEGIN:VEVENT
DTSTAMP:20150730T130000Z
ORGANIZER;CN=Northern Downhill:MAILTO:
STATUS:CONFIRMED
UID:MORESPORTSNETWORK1388
DTSTART:20160910T080000Z
DTEND:20160910T120000Z
SUMMARY:Kielder Trail Bike TT
DESCRIPTION:Kielder Trail Bike TT - more details: https://www.moredirt.com/event/1388
X-ALT-DESC;FMTTYPE=text/html:Kielder Trail Bike TT - more details: https://www.moredirt.com/event/1388
LOCATION:
END:VEVENT
END:VCALENDAR