BEGIN:VCALENDAR
VERSION:2.0
PRODID:-//MoreDirt v1.0//EN
BEGIN:VEVENT
DTSTAMP:20150730T130000Z
ORGANIZER;CN=Northern Downhill:MAILTO:
STATUS:CONFIRMED
UID:MORESPORTSNETWORK1387
DTSTART:20160917T080000Z
DTEND:20160918T120000Z
SUMMARY:Lecht TT & Funduro
DESCRIPTION:Lecht TT & Funduro - more details: https://www.moredirt.com/event/1387
X-ALT-DESC;FMTTYPE=text/html:Lecht TT & Funduro - more details: https://www.moredirt.com/event/1387
LOCATION:
END:VEVENT
END:VCALENDAR